BEGIN:VCALENDAR
VERSION:2.0
PRODID:icalendar-ruby
CALSCALE:GREGORIAN
METHOD:PUBLISH
BEGIN:VEVENT
DTSTAMP:20260423T192234Z
UID:18-315803@southheightsbaptist.com
DTSTART:20260521T000000Z
DTEND:20260521T010000Z
CLASS:PUBLIC
CREATED:20260410T171102
DESCRIPTION:Mid-Week Service
LAST-MODIFIED:20260410T171102
LOCATION:
SUMMARY:Mid-Week Service
URL;VALUE=URI:https://www.southheightsbaptist.com/events/mid-week-service--
 18/2026-05-20
ATTACH;FILENAME=2ndCorinthians.png;FMTTYPE=image/png:https://dq5pwpg1q8ru0.
 cloudfront.net/2026/04/10/22/10/45/f021f657-b35c-4126-abec-e4b63819e54a/2n
 dCorinthians.png
END:VEVENT
END:VCALENDAR
